

BEGIN:VCALENDAR
VERSION:2.0
PRODID:-//VarjeSteg - ECPv6.15.13//NONSGML v1.0//EN
CALSCALE:GREGORIAN
METHOD:PUBLISH
X-WR-CALNAME:VarjeSteg
X-ORIGINAL-URL:https://varjesteg.se
X-WR-CALDESC:Händelser för VarjeSteg
REFRESH-INTERVAL;VALUE=DURATION:PT1H
X-Robots-Tag:noindex
X-PUBLISHED-TTL:PT1H
BEGIN:VTIMEZONE
TZID:Europe/Stockholm
BEGIN:DAYLIGHT
TZOFFSETFROM:+0100
TZOFFSETTO:+0200
TZNAME:CEST
DTSTART:20240331T010000
END:DAYLIGHT
BEGIN:STANDARD
TZOFFSETFROM:+0200
TZOFFSETTO:+0100
TZNAME:CET
DTSTART:20241027T010000
END:STANDARD
BEGIN:DAYLIGHT
TZOFFSETFROM:+0100
TZOFFSETTO:+0200
TZNAME:CEST
DTSTART:20250330T010000
END:DAYLIGHT
BEGIN:STANDARD
TZOFFSETFROM:+0200
TZOFFSETTO:+0100
TZNAME:CET
DTSTART:20251026T010000
END:STANDARD
BEGIN:DAYLIGHT
TZOFFSETFROM:+0100
TZOFFSETTO:+0200
TZNAME:CEST
DTSTART:20260329T010000
END:DAYLIGHT
BEGIN:STANDARD
TZOFFSETFROM:+0200
TZOFFSETTO:+0100
TZNAME:CET
DTSTART:20261025T010000
END:STANDARD
END:VTIMEZONE
BEGIN:VEVENT
DTSTART;TZID=Europe/Stockholm:20250108T180000
DTEND;TZID=Europe/Stockholm:20250129T180000
DTSTAMP:20260421T101327
CREATED:20241009T145452Z
LAST-MODIFIED:20241028T094725Z
UID:10001303-1736359200-1738173600@varjesteg.se
SUMMARY:Stockholm\, Kungsholmen – Löpargrupp Januari
DESCRIPTION:Kickstarta året i våra löpargrupper i Januariutmaningen där du stärker upp din kropp från grunden och lär dig hur du kan komma igång eller utveckla löpträningen under vintern trots kyla och mörker! Passen är från v. 2 – v. 5. \nOavsett nivå kan du vara med då vi har flera upplägg (Nybörjare till erfaren löpare) där du vid varje pass får personlig feedback på ditt löpsteg. \nTid: Onsdagar 18:00\nSamlingsplats: Rålambshovsparken vid monument Yxmannen\, synligt från Boulebar/Norr Mälarstrand\nAdress: Smedsuddsvägen 6\, 112 35 Stockholm\nLängd: Alla pass är ca 60-75min\nKursstart: 8 januari 2025 \nLöpteknik\nLöpning och gång är en människas naturliga rörelse\, och borde därför också vara naturligt och smärtfritt. VarjeSteg fokuserar på en skonsam rörelse och löpteknik. Det gör att du bygger upp din kropp i varje steg såväl som i gång och löpning\, istället för att bryta ner den. \nEn skonsam löpning blir även en effektivare löpning med mindre ansträngning. När du hittar den där lätta känslan i steget\, då blir löpningen som meditation\, fantastisk och fri. \nProgram\nJanuariutmaningen kommer att ske genom 1 ledarlett pass per vecka\, samt 2 online-pass som du utför hemma mellan passen (ett extra löppass och ett posturalt pass med styrka & rörlighet). Du kan också välja att göra kursen helt online där du blir coachad direkt i hörlurarna med musikpass. \nUnder 4 veckor kommer vi att fokusera på att stärka kroppen från grunden för att du ska få uppleva lätthetskänsla i löpningen. Om du jobbar med yttre muskler som kompenserar för svaga inre muskler (som är vanligt vid stillasittande arbete) kommer löpningen att bli tung. Efter Posturala övningar upplever man en så kallad ”anti-gravity-effekt” (lätthetskänsla). Detta i kombination med skonsam rörelse & löpteknik som VarjeSteg lär ut gör det otroligt kraftfullt\, men framförallt; det är i längden nyckeln till rörelsefrihet. \nVi anpassar träningen efter din egen förmåga då vi har flera olika nivåer och upplägg. Läs mer om dessa i programmet genom att klicka HÄR! \nFriskvård\n\nDet går att utnyttja sitt friskvårdsbidrag. Vi tar även emot ePassi\, Benify\, Wellnet och Edenred.\nBoka tidigt förmån: Du får direkt tillgång till vår medlemssida efter din anmälan\n\nPris:\n595:- I priset ingår alla 4 ledarledda löppass\, plus 8 onlinepass du utför hemma\, personlig feedback på ditt löpsteg och en mössa eller ett pannband + tillgång till VarjeStegs medlemssida med över 80 online-pass.
URL:https://varjesteg.se/lopargrupp/kungsholmen-stockholm-januari/
LOCATION:Rålambshovsparken vid monument Yxmannen\, Smedsuddsvägen 6\, Stockholm\, 112 35
CATEGORIES:Januariutmaningen,Löpkurser
ATTACH;FMTTYPE=image/jpeg:https://varjesteg.se/wp-content/uploads/2024/10/A3DFFE7F-E67A-41E3-BCB9-DBE366B9F3D0.jpg
GEO:59.3284243;18.0237544
X-APPLE-STRUCTURED-LOCATION;VALUE=URI;X-ADDRESS=Rålambshovsparken vid monument Yxmannen Smedsuddsvägen 6 Stockholm 112 35;X-APPLE-RADIUS=500;X-TITLE=Smedsuddsvägen 6:geo:18.0237544,59.3284243
END:VEVENT
END:VCALENDAR